BEGIN:VCALENDAR
VERSION:2.0
PRODID:-//esauk.org - ECPv6.15.20//NONSGML v1.0//EN
CALSCALE:GREGORIAN
METHOD:PUBLISH
X-WR-CALNAME:esauk.org
X-ORIGINAL-URL:https://esauk.org
X-WR-CALDESC:Events for esauk.org
REFRESH-INTERVAL;VALUE=DURATION:PT1H
X-Robots-Tag:noindex
X-PUBLISHED-TTL:PT1H
BEGIN:VTIMEZONE
TZID:UTC
BEGIN:STANDARD
TZOFFSETFROM:+0000
TZOFFSETTO:+0000
TZNAME:UTC
DTSTART:20250101T000000
END:STANDARD
END:VTIMEZONE
BEGIN:VEVENT
DTSTART;TZID=UTC:20260114T090000
DTEND;TZID=UTC:20260114T100000
DTSTAMP:20260421T100319
CREATED:20251210T135047Z
LAST-MODIFIED:20251210T135047Z
UID:8563-1768381200-1768384800@esauk.org
SUMMARY:ESA Strategy Group | Resources and Waste Strategy
DESCRIPTION:EXCLUSIVE MEMBER ONLY STRATEGY GROUP  \nhis is an exclusive Member Only Strategy Group focussing on the Resources and Waste Strategy. If you are a member and wish to join the group\, please reach out in the normal ways
URL:https://esauk.org/event-calendar/esa-strategy-group-resources-and-waste-strategy-3/
LOCATION:Online
END:VEVENT
END:VCALENDAR