BEGIN:VCALENDAR
VERSION:2.0
PRODID:-//esauk.org - ECPv6.15.20//NONSGML v1.0//EN
CALSCALE:GREGORIAN
METHOD:PUBLISH
X-WR-CALNAME:esauk.org
X-ORIGINAL-URL:https://esauk.org
X-WR-CALDESC:Events for esauk.org
REFRESH-INTERVAL;VALUE=DURATION:PT1H
X-Robots-Tag:noindex
X-PUBLISHED-TTL:PT1H
BEGIN:VTIMEZONE
TZID:UTC
BEGIN:STANDARD
TZOFFSETFROM:+0000
TZOFFSETTO:+0000
TZNAME:UTC
DTSTART:20240101T000000
END:STANDARD
END:VTIMEZONE
BEGIN:VEVENT
DTSTART;VALUE=DATE:20251210
DTEND;VALUE=DATE:20251211
DTSTAMP:20260421T102404
CREATED:20251017T111505Z
LAST-MODIFIED:20251017T111505Z
UID:8192-1765324800-1765411199@esauk.org
SUMMARY:ADBA National Conference 2025
DESCRIPTION:Biogas: delivering sustainable growth\, energy security and a circular economy\nThis year’s agenda has been developed in collaboration with our Content Steering Committee\, a panel of leading UK experts and industry representatives. Drawing on their combined expertise\, the programme is designed to tackle the sector’s most urgent challenges while providing delegates with practical\, actionable insights to support day-to-day operations and long-term strategy. \nKey themes include: \n\nBiomethane’s role in energy security and net zero\nThe future of small-scale AD and off-grid solutions\nThe CHP crossroads: challenges and opportunities\nBest practice in nutrient recovery and digestate management\nOperations in focus: methane slip\, leak detection and performance compliance\nUnlocking AD potential for food waste\nImpacts of the Simpler Recycling rollout\nAccelerating the next generation of AD
URL:https://esauk.org/event-calendar/adba-national-conference-2025/
LOCATION:One Great George Street\, London\, Westminster\, SW1P 3AA
END:VEVENT
END:VCALENDAR