BEGIN:VCALENDAR
VERSION:2.0
PRODID:-//esauk.org - ECPv6.15.20//NONSGML v1.0//EN
CALSCALE:GREGORIAN
METHOD:PUBLISH
X-ORIGINAL-URL:https://esauk.org
X-WR-CALDESC:Events for esauk.org
REFRESH-INTERVAL;VALUE=DURATION:PT1H
X-Robots-Tag:noindex
X-PUBLISHED-TTL:PT1H
BEGIN:VTIMEZONE
TZID:UTC
BEGIN:STANDARD
TZOFFSETFROM:+0000
TZOFFSETTO:+0000
TZNAME:UTC
DTSTART:20240101T000000
END:STANDARD
END:VTIMEZONE
BEGIN:VEVENT
DTSTART;TZID=UTC:20251209T110000
DTEND;TZID=UTC:20251209T120000
DTSTAMP:20260421T112728
CREATED:20251107T125528Z
LAST-MODIFIED:20251107T125528Z
UID:8383-1765278000-1765281600@esauk.org
SUMMARY:ZWS Webinar | Learn more about the Circular Economy Strategy consultation
DESCRIPTION:Join this webinar to learn more about the draft Circular Economy Strategy\, how it was developed\, what it aims to achieve\, and how to take part. \nThe Scottish Government are currently consulting on the draft Circular Economy Strategy for Scotland and are asking for people to take part and have their say. \nIn this webinar session\, Scottish Government policy leads from the Circular Economy Division\, in collaboration with Zero Waste Scotland\, will discuss: \n\nThe development of the draft Circular Economy Strategy\nWhy it’s important and what it aims to achieve.\nOpportunity for Q&A
URL:https://esauk.org/event-calendar/zws-webinar-learn-more-about-the-circular-economy-strategy-consultation/
LOCATION:Online
END:VEVENT
END:VCALENDAR