BEGIN:VCALENDAR
VERSION:2.0
PRODID:-//esauk.org - ECPv6.15.20//NONSGML v1.0//EN
CALSCALE:GREGORIAN
METHOD:PUBLISH
X-ORIGINAL-URL:https://esauk.org
X-WR-CALDESC:Events for esauk.org
REFRESH-INTERVAL;VALUE=DURATION:PT1H
X-Robots-Tag:noindex
X-PUBLISHED-TTL:PT1H
BEGIN:VTIMEZONE
TZID:UTC
BEGIN:STANDARD
TZOFFSETFROM:+0000
TZOFFSETTO:+0000
TZNAME:UTC
DTSTART:20240101T000000
END:STANDARD
END:VTIMEZONE
BEGIN:VEVENT
DTSTART;VALUE=DATE:20251126
DTEND;VALUE=DATE:20251128
DTSTAMP:20260421T112731
CREATED:20250430T123404Z
LAST-MODIFIED:20250430T123430Z
UID:7699-1764115200-1764287999@esauk.org
SUMMARY:Industry CCUS 2025
DESCRIPTION:After the great success of Industry CCUS 2024 Conference that gathered over 100 attendees from over 20+ countries\, the event will be returning for 2025! \nThe conference will take place on 26-27 November 2025 in Amsterdam\, Netherlands. The summit will take an in-depth look into  industries: heavy\, petrochemical\, cement and more. Join us for a dynamic exploration of the latest developments in CCUS.
URL:https://esauk.org/event-calendar/industry-ccus-2025/
LOCATION:Amsterdam
END:VEVENT
BEGIN:VEVENT
DTSTART;TZID=UTC:20251126T140000
DTEND;TZID=UTC:20251126T170000
DTSTAMP:20260421T112731
CREATED:20250801T102153Z
LAST-MODIFIED:20250801T110212Z
UID:7992-1764165600-1764176400@esauk.org
SUMMARY:Environment Analyst Webinar 2 | Effectively Assessing & Managing PFAS 2025
DESCRIPTION:Join Environment Analyst’s online event Effectively Assessing & Managing PFAS on 25 & 26 November 2025 and hear global policy experts explore the implications of current and future regulatory frameworks for the risk assessment and management of PFAS. 
URL:https://esauk.org/event-calendar/environment-analyst-webinar-2-effectively-assessing-managing-pfas-2025/
LOCATION:Online
END:VEVENT
END:VCALENDAR