BEGIN:VCALENDAR
VERSION:2.0
PRODID:-//esauk.org - ECPv6.15.20//NONSGML v1.0//EN
CALSCALE:GREGORIAN
METHOD:PUBLISH
X-ORIGINAL-URL:https://esauk.org
X-WR-CALDESC:Events for esauk.org
REFRESH-INTERVAL;VALUE=DURATION:PT1H
X-Robots-Tag:noindex
X-PUBLISHED-TTL:PT1H
BEGIN:VTIMEZONE
TZID:UTC
BEGIN:STANDARD
TZOFFSETFROM:+0000
TZOFFSETTO:+0000
TZNAME:UTC
DTSTART:20240101T000000
END:STANDARD
END:VTIMEZONE
BEGIN:VEVENT
DTSTART;VALUE=DATE:20251112
DTEND;VALUE=DATE:20251113
DTSTAMP:20260421T111636
CREATED:20250625T130045Z
LAST-MODIFIED:20251021T103402Z
UID:7884-1762905600-1762991999@esauk.org
SUMMARY:letsrecycle.com Event | The EPR Conference
DESCRIPTION:This event is specifically designed to provide you with the latest insights\, expert guidance\, and practical strategies to navigate the new packaging EPR regulations that will impact producers across the UK. \nKey themes: \n\nOverview and Understanding of EPR Policy and System: Understanding the regulatory framework\, the roles of various stakeholders\, and the anticipated changes to legislation.\nCompliance\, Costs\, and Enforcement: The complexities surrounding compliance with the EPR system\, potential costs\, and data management challenges.\nDiverse Perspectives on EPR Implementation: Insights from waste management\, compliance experts\, producers\, and local authorities.\nMaterial-Specific Focus and Challenges: Examining specific material streams and the unique challenges and opportunities they present within the EPR framework.\nCase Studies and International Comparisons: Lessons learnt and the approaches being taken by producers in preparation for EPR.\n\nThe EPR scheme changes are set to transform how businesses are held accountable for the environmental impact of their packaging. With the new regulations coming into effect soon\, it is crucial to understand your obligations and the steps businesses must take to comply.
URL:https://esauk.org/event-calendar/letsrecycle-com-event-the-epr-conference/
LOCATION:The IET\, Savoy Place\, London
END:VEVENT
BEGIN:VEVENT
DTSTART;TZID=UTC:20251112T100000
DTEND;TZID=UTC:20251112T110000
DTSTAMP:20260421T111636
CREATED:20241106T121702Z
LAST-MODIFIED:20251110T092154Z
UID:7205-1762941600-1762945200@esauk.org
SUMMARY:ESA Working Group | Climate Change
DESCRIPTION:MEMBER ONLY EVENT Exclusive Members Only Working Group focussing on Climate Change and Net Zero
URL:https://esauk.org/event-calendar/esa-working-group-climate-change-4/
LOCATION:Online
END:VEVENT
BEGIN:VEVENT
DTSTART;TZID=UTC:20251112T133000
DTEND;TZID=UTC:20251112T143000
DTSTAMP:20260421T111636
CREATED:20251107T125718Z
LAST-MODIFIED:20251107T125718Z
UID:8386-1762954200-1762957800@esauk.org
SUMMARY:ZWS Webinar | Food for Thought: Food waste reduction through evidence-based insights
DESCRIPTION:Scotland is facing a food waste crisis – join ZWS as they explore the scale of this\, and discover how the circular economy could be the answer. \nThis webinar will talk through the highlights of these reports\, and how we can use them to tackle this important challenge.
URL:https://esauk.org/event-calendar/zws-webinar-food-for-thought-food-waste-reduction-through-evidence-based-insights/
LOCATION:Online
END:VEVENT
END:VCALENDAR