BEGIN:VCALENDAR
VERSION:2.0
PRODID:-//esauk.org - ECPv6.15.20//NONSGML v1.0//EN
CALSCALE:GREGORIAN
METHOD:PUBLISH
X-WR-CALNAME:esauk.org
X-ORIGINAL-URL:https://esauk.org
X-WR-CALDESC:Events for esauk.org
REFRESH-INTERVAL;VALUE=DURATION:PT1H
X-Robots-Tag:noindex
X-PUBLISHED-TTL:PT1H
BEGIN:VTIMEZONE
TZID:UTC
BEGIN:STANDARD
TZOFFSETFROM:+0000
TZOFFSETTO:+0000
TZNAME:UTC
DTSTART:20240101T000000
END:STANDARD
END:VTIMEZONE
BEGIN:VEVENT
DTSTART;VALUE=DATE:20251103
DTEND;VALUE=DATE:20251109
DTSTAMP:20260421T100315
CREATED:20251013T103844Z
LAST-MODIFIED:20251013T103844Z
UID:8185-1762128000-1762646399@esauk.org
SUMMARY:Green Careers Week
DESCRIPTION:From renewable energy to sustainable design\, conservation to green tech there’s a world of opportunity waiting in the green sector. \nGCW celebrates the people and pathways driving a cleaner\, greener future 🌱 \nGet inspired\, explore careers that make a difference\, and see how you can be part of the change.
URL:https://esauk.org/event-calendar/green-careers-week/
LOCATION:Online
END:VEVENT
BEGIN:VEVENT
DTSTART;TZID=UTC:20251105T100000
DTEND;TZID=UTC:20251105T110000
DTSTAMP:20260421T100315
CREATED:20251015T143106Z
LAST-MODIFIED:20251104T105120Z
UID:8188-1762336800-1762340400@esauk.org
SUMMARY:ESA Webinar | Unlocking Energy from Waste Heat
DESCRIPTION:Join us for this free online session exploring how Energy from Waste (EfW) can play a vital role in decarbonising the UK’s heat supply. \nWith the Government targeting 20% of heating from heat networks by 2050\, EfW sites present a major opportunity to deliver low-carbon\, reliable\, and cost-effective heat to homes and businesses. Although EfW facilities operate across the UK\, only a small proportion currently export heat — representing a significant untapped potential for achieving net zero goals. \nThis webinar marks the launch of the Environmental Services Association’s (ESA) new “Guide to Energy from Waste Heat Offtake” and updated Heat Network Prospectus\, created to support planners and policymakers in identifying EfW heat opportunities across the UK. \nAn expert panel featuring voices from Government\, industry\, and the heat network sector will explore the technical\, commercial\, and regulatory considerations of EfW heat\, including developing policies such as heat network zoning that aim to unlock the full potential of this resource. \nSpeakers include: \n\nSimon Woodward\, UK District Energy Association (UK DEA)\nCantor Mocke\, Department for Energy Security and Net Zero (DESNZ)\nNick Minnitt\, enfinium – Chair: Charlotte Rule\, ESA
URL:https://esauk.org/event-calendar/esa-webinar-unlocking-the-potential-of-energy-from-waste-in-uk-heat-networks/
LOCATION:Online
END:VEVENT
BEGIN:VEVENT
DTSTART;TZID=UTC:20251105T140000
DTEND;TZID=UTC:20251105T150000
DTSTAMP:20260421T100315
CREATED:20251023T111304Z
LAST-MODIFIED:20251023T111304Z
UID:8215-1762351200-1762354800@esauk.org
SUMMARY:CIWM Webinar | Green Careers Week webinar: The future is circular: green jobs of the waste and resources sector
DESCRIPTION:This dynamic panel discussion explores the growing world of green jobs within the waste and resource management sector – an area rich with opportunity but often overlooked. \nWhat you’ll learn: \n\nA snapshot of some of the key green jobs in resource and waste management\nInsights into the opportunities and future trends\nPractical advice on how to get into the sector and take your next steps\nThe value of training\, mentoring and continuous development for your career
URL:https://esauk.org/event-calendar/ciwm-webinar-green-careers-week-webinar-the-future-is-circular-green-jobs-of-the-waste-and-resources-sector/
LOCATION:Online
END:VEVENT
END:VCALENDAR