BEGIN:VCALENDAR
VERSION:2.0
PRODID:-//esauk.org - ECPv6.15.20//NONSGML v1.0//EN
CALSCALE:GREGORIAN
METHOD:PUBLISH
X-WR-CALNAME:esauk.org
X-ORIGINAL-URL:https://esauk.org
X-WR-CALDESC:Events for esauk.org
REFRESH-INTERVAL;VALUE=DURATION:PT1H
X-Robots-Tag:noindex
X-PUBLISHED-TTL:PT1H
BEGIN:VTIMEZONE
TZID:UTC
BEGIN:STANDARD
TZOFFSETFROM:+0000
TZOFFSETTO:+0000
TZNAME:UTC
DTSTART:20240101T000000
END:STANDARD
END:VTIMEZONE
BEGIN:VEVENT
DTSTART;VALUE=DATE:20251020
DTEND;VALUE=DATE:20251027
DTSTAMP:20260419T133743
CREATED:20251017T131431Z
LAST-MODIFIED:20251020T105357Z
UID:8206-1760918400-1761523199@esauk.org
SUMMARY:ReLondon Event | CE Week
DESCRIPTION:Hosted by ReLondon\, London’s circular economy partner\, the eighth annual circular economy showcase happens from Monday 20th – Sunday 26th October 2025. \n#CEweek2025 is a week of inspiration and celebration to showcase and accelerate the stuff revolution. \nTaking place ahead of COP30 climate negotiations\, we want #CEweek2025 to demonstrate how the circular economy supports economic growth\, delivers green jobs\, promotes efficient and productive use of resources\, minimises negative environmental impacts and accelerates progress towards net zero. \nThroughout the week\, we’ll shine a focus on circular place-based action as a lever for change\, spotlighting how local action can enable neighbourhoods and communities to thrive and enjoy a prosperous\, resilient and sustainable way of life.
URL:https://esauk.org/event-calendar/relondon-event-ce-week/
LOCATION:London
END:VEVENT
BEGIN:VEVENT
DTSTART;VALUE=DATE:20251023
DTEND;VALUE=DATE:20251024
DTSTAMP:20260419T133743
CREATED:20250728T122103Z
LAST-MODIFIED:20250728T122103Z
UID:7968-1761177600-1761263999@esauk.org
SUMMARY:Letsrecycle.com Event | Fire and Health & Safety Conference
DESCRIPTION:With rising risks from lithium batteries\, gas canisters\, and kerbside materials\, this event focuses on fire prevention\, worker protection\, and regulatory enforcement across the sector.
URL:https://esauk.org/event-calendar/letsrecycle-com-event-fire-and-health-safety-conference/
LOCATION:Hallam Conference Centre\, 44 Hallam Street\, W1W 6JJ
END:VEVENT
BEGIN:VEVENT
DTSTART;TZID=UTC:20251023T103000
DTEND;TZID=UTC:20251023T123000
DTSTAMP:20260419T133743
CREATED:20241002T085408Z
LAST-MODIFIED:20250609T112525Z
UID:6982-1761215400-1761222600@esauk.org
SUMMARY:ESA Working Group | Energy from Waste (EfW)
DESCRIPTION:EXCLUSIVE MEMBER ONLY WORKING GROUP | This is an exclusive Member Only Working Group focussing on Energy from Waste (EfW). If you are a member and wish to join the group\, please reach out in the normal ways
URL:https://esauk.org/event-calendar/esa-working-group-energy-from-waste-efw-4/
LOCATION:Online
END:VEVENT
END:VCALENDAR