BEGIN:VCALENDAR
VERSION:2.0
PRODID:-//esauk.org - ECPv6.15.20//NONSGML v1.0//EN
CALSCALE:GREGORIAN
METHOD:PUBLISH
X-ORIGINAL-URL:https://esauk.org
X-WR-CALDESC:Events for esauk.org
REFRESH-INTERVAL;VALUE=DURATION:PT1H
X-Robots-Tag:noindex
X-PUBLISHED-TTL:PT1H
BEGIN:VTIMEZONE
TZID:UTC
BEGIN:STANDARD
TZOFFSETFROM:+0000
TZOFFSETTO:+0000
TZNAME:UTC
DTSTART:20240101T000000
END:STANDARD
END:VTIMEZONE
BEGIN:VEVENT
DTSTART;VALUE=DATE:20251020
DTEND;VALUE=DATE:20251027
DTSTAMP:20260419T134307
CREATED:20251017T131431Z
LAST-MODIFIED:20251020T105357Z
UID:8206-1760918400-1761523199@esauk.org
SUMMARY:ReLondon Event | CE Week
DESCRIPTION:Hosted by ReLondon\, London’s circular economy partner\, the eighth annual circular economy showcase happens from Monday 20th – Sunday 26th October 2025. \n#CEweek2025 is a week of inspiration and celebration to showcase and accelerate the stuff revolution. \nTaking place ahead of COP30 climate negotiations\, we want #CEweek2025 to demonstrate how the circular economy supports economic growth\, delivers green jobs\, promotes efficient and productive use of resources\, minimises negative environmental impacts and accelerates progress towards net zero. \nThroughout the week\, we’ll shine a focus on circular place-based action as a lever for change\, spotlighting how local action can enable neighbourhoods and communities to thrive and enjoy a prosperous\, resilient and sustainable way of life.
URL:https://esauk.org/event-calendar/relondon-event-ce-week/
LOCATION:London
END:VEVENT
BEGIN:VEVENT
DTSTART;TZID=UTC:20251020T130000
DTEND;TZID=UTC:20251020T140000
DTSTAMP:20260419T134307
CREATED:20251007T105107Z
LAST-MODIFIED:20251007T105107Z
UID:8149-1760965200-1760968800@esauk.org
SUMMARY:Environment Analyst webinar | Shaping the Future of EU Sustainability Due Diligence – Beyond the Omnibus
DESCRIPTION:Since the European Commission introduced its first omnibus package on sustainability earlier this year\, the future of sustainability due diligence in the EU has been the subject of considerable debate. Yet one thing remains clear: sustainability due diligence is still business-critical\, and inaction can seriously impact a company’s license to operate. \nIn this Environment Analyst Leadership Network Expert Talk\, Ramboll goes beyond the omnibus developments to explore the broader EU landscape. It will map the wide range of initiatives that reflect sustainability due diligence and explain why companies must understand their potential impacts.
URL:https://esauk.org/event-calendar/environment-analyst-webinar-shaping-the-future-of-eu-sustainability-due-diligence-beyond-the-omnibus/
LOCATION:Online
END:VEVENT
END:VCALENDAR