BEGIN:VCALENDAR
VERSION:2.0
PRODID:-//esauk.org - ECPv6.15.20//NONSGML v1.0//EN
CALSCALE:GREGORIAN
METHOD:PUBLISH
X-ORIGINAL-URL:https://esauk.org
X-WR-CALDESC:Events for esauk.org
REFRESH-INTERVAL;VALUE=DURATION:PT1H
X-Robots-Tag:noindex
X-PUBLISHED-TTL:PT1H
BEGIN:VTIMEZONE
TZID:UTC
BEGIN:STANDARD
TZOFFSETFROM:+0000
TZOFFSETTO:+0000
TZNAME:UTC
DTSTART:20240101T000000
END:STANDARD
END:VTIMEZONE
BEGIN:VEVENT
DTSTART;VALUE=DATE:20251015
DTEND;VALUE=DATE:20251017
DTSTAMP:20260419T134307
CREATED:20250220T113616Z
LAST-MODIFIED:20250225T113021Z
UID:7515-1760486400-1760659199@esauk.org
SUMMARY:Energy Landscape UK (ELUK2025) Conference & Exhibition
DESCRIPTION:* exclusive 20% discount for all ESA Members – contact t-lockhart@esauk.org for more information \nThe Energy Landscape UK 2025 conference is a transformative 2-day event designed to address the next phase of the UK’s energy transition. \nELUK2025 will convene industry leaders\, policymakers\, and stakeholders to explore innovative strategies and collaborative solutions for achieving the UK’s net-zero ambitions. This conference will focus on fostering public-private partnerships\, developing the skills necessary for the energy workforce of tomorrow\, and advancing cutting-edge technologies to secure a sustainable and resilient energy future.
URL:https://esauk.org/event-calendar/energy-landscape-uk-eluk2025-conference-exhibition/
LOCATION:London
END:VEVENT
BEGIN:VEVENT
DTSTART;VALUE=DATE:20251015
DTEND;VALUE=DATE:20251017
DTSTAMP:20260419T134307
CREATED:20251007T104312Z
LAST-MODIFIED:20251007T104312Z
UID:8145-1760486400-1760659199@esauk.org
SUMMARY:London Packaging Week
DESCRIPTION:London Packaging Week is the capital’s premier innovation and design event for you to source new packaging and learn about the trends driving the industry forward. Your ticket gains you access to all four exhibitions: \n\nPackaging Première (Luxury packaging)\nPCD (Cosmetics & Personal Care packaging)\nPLD (Premium Drinks)\nFood & Consumer Pack (High volume\, FMCG Packaging)
URL:https://esauk.org/event-calendar/london-packaging-week/
LOCATION:ExCel\, London
END:VEVENT
BEGIN:VEVENT
DTSTART;TZID=UTC:20251016T100000
DTEND;TZID=UTC:20251016T110000
DTSTAMP:20260419T134307
CREATED:20251008T113726Z
LAST-MODIFIED:20251008T113726Z
UID:8162-1760608800-1760612400@esauk.org
SUMMARY:Advetec Webinar | Unlocking Value From Unrecyclable Waste | Virtual Waste Summit 2025
DESCRIPTION:Join industry leaders online for Unlocking Value from Unrecyclable Waste – a focused virtual event exploring how to recover value from waste that cannot be recycled. This free-to-attend session brings together leading voices from across the waste\, recycling\, and resource management sectors for two hours of expert-led content.
URL:https://esauk.org/event-calendar/advetec-webinar-unlocking-value-from-unrecyclable-waste-virtual-waste-summit-2025/
LOCATION:Online
END:VEVENT
BEGIN:VEVENT
DTSTART;TZID=UTC:20251016T130000
DTEND;TZID=UTC:20251016T150000
DTSTAMP:20260419T134307
CREATED:20250912T122248Z
LAST-MODIFIED:20250912T122757Z
UID:8077-1760619600-1760626800@esauk.org
SUMMARY:EA Webinar | EfW start-up and shut-down definitions for incinerator and co-incinerator operators
DESCRIPTION:This EA webinar / Teams Meeting is for all operators of waste incinerators and co-incinerators\, and will cover the Environment Agency’s (EA’s) approach to auditing start-up and shut-down definitions (an EA regulatory priority for 2025-26). \nOperators in Scotland\, Wales and Northern Ireland are also welcome to attend (as the other UK regulators will be taking a similar approach).  \nThe webinar will be recorded\, with a link to the recording circulated afterwards for any operators who were unable to attend (and for future reference). \nThe webinar will cover the following: \n\nBasic principles of defining start-up & shut-down examples as set out in Environment Agency guidance on deriving start-up and shut-down definitions for waste incinerators and co-incinerators (circulated to operators on 11/12/24 and attached to this invite).\nThe current versions of the OTNOC Management Plan template and start-up & shut-down definitions audit template (circulated to operators on 21/08/25 and attached to this invite).\nTips for ensuring a successful audit\nA high-level run through of some case study examples of agreed start-up & shut-down definitions for:\n\nMunicipal EfW plants\nA waste wood co-incinerator\nA clinical waste incinerator\n\n\nQuestion & answer session\n\nPlease follow the link below to download the calendar entry and add to your calendar to access the webinar
URL:https://esauk.org/event-calendar/ea-webinar-or-incinerator-and-co-incinerator-operators-on-start-up-and-shut-down-definitions/
LOCATION:Online
END:VEVENT
END:VCALENDAR