BEGIN:VCALENDAR
VERSION:2.0
PRODID:-//esauk.org - ECPv6.15.20//NONSGML v1.0//EN
CALSCALE:GREGORIAN
METHOD:PUBLISH
X-WR-CALNAME:esauk.org
X-ORIGINAL-URL:https://esauk.org
X-WR-CALDESC:Events for esauk.org
REFRESH-INTERVAL;VALUE=DURATION:PT1H
X-Robots-Tag:noindex
X-PUBLISHED-TTL:PT1H
BEGIN:VTIMEZONE
TZID:UTC
BEGIN:STANDARD
TZOFFSETFROM:+0000
TZOFFSETTO:+0000
TZNAME:UTC
DTSTART:20240101T000000
END:STANDARD
END:VTIMEZONE
BEGIN:VEVENT
DTSTART;VALUE=DATE:20251014
DTEND;VALUE=DATE:20251015
DTSTAMP:20260419T133900
CREATED:20250717T091511Z
LAST-MODIFIED:20250717T091511Z
UID:7937-1760400000-1760486399@esauk.org
SUMMARY:International E-Waste Day 2025
DESCRIPTION:ESA is proud to support International E-Waste Day \nInternational E‑Waste Day—launched by the WEEE Forum in 2018—aims to raise awareness about e‑waste and encourage responsible management. Year after year\, participation has grown\, with this year being its 8th year! \nThis years theme is: Recycle your e-waste – it’s critical! \nAs the demand for smartphones\, electric vehicles\, solar panels\, and other technology continues to surge\, so does the need for the materials that make them work. This year\, International E-Waste Day will spotlight Critical Raw Materials (CRMs)\, the elements that are mined in only a handful of countries and that are crucial to foster the green and digital transition (read more here about this year’s topic). \nHow to participate: \n\nBlock 14 October 2025 in your calendar.\nPlan activities: they could be local e‑waste collections\, educational webinars\, conferences\, study releases\, social media or press campaigns – any action promoting responsible e-waste management is welcome!\nRegister here once your plans are set: https://weee-forum.org/iewd-register/ (registered participants will receive campaign kits and be featured on the official IEWD website).
URL:https://esauk.org/event-calendar/international-e-waste-day-2025/
END:VEVENT
BEGIN:VEVENT
DTSTART;VALUE=DATE:20251014
DTEND;VALUE=DATE:20251015
DTSTAMP:20260419T133900
CREATED:20251007T105343Z
LAST-MODIFIED:20251007T105343Z
UID:8151-1760400000-1760486399@esauk.org
SUMMARY:Procurement Act Live
DESCRIPTION:This pivotal event will explore the early impacts of the Procurement Act and how organisations across the public and private sectors are adapting to this significant transformation in procurement law and practice. \nHosted eight months after the Act came into force\, this conference and exhibition offers a timely opportunity to assess progress\, share learnings\, and prepare for the road ahead. Delegates will hear from leading policy-makers\, legal experts\, procurement professionals and commercial leaders on how the new regime is shaping procurement outcomes across the UK.
URL:https://esauk.org/event-calendar/procurement-act-live/
LOCATION:ExCel\, London
END:VEVENT
BEGIN:VEVENT
DTSTART;TZID=UTC:20251014T100000
DTEND;TZID=UTC:20251014T120000
DTSTAMP:20260419T133900
CREATED:20241023T112651Z
LAST-MODIFIED:20250609T112442Z
UID:7130-1760436000-1760443200@esauk.org
SUMMARY:ESA Working Group | Health & Safety
DESCRIPTION:EXCLUSIVE MEMBER ONLY WORKING GROUP | This is an exclusive Member Only Working Group focussing on Health & Safety. If you are a member and wish to join the group\, please reach out in the normal ways
URL:https://esauk.org/event-calendar/esa-working-group-health-safety-4/
LOCATION:Online
END:VEVENT
END:VCALENDAR