BEGIN:VCALENDAR
VERSION:2.0
PRODID:-//esauk.org - ECPv6.15.20//NONSGML v1.0//EN
CALSCALE:GREGORIAN
METHOD:PUBLISH
X-WR-CALNAME:esauk.org
X-ORIGINAL-URL:https://esauk.org
X-WR-CALDESC:Events for esauk.org
REFRESH-INTERVAL;VALUE=DURATION:PT1H
X-Robots-Tag:noindex
X-PUBLISHED-TTL:PT1H
BEGIN:VTIMEZONE
TZID:UTC
BEGIN:STANDARD
TZOFFSETFROM:+0000
TZOFFSETTO:+0000
TZNAME:UTC
DTSTART:20240101T000000
END:STANDARD
END:VTIMEZONE
BEGIN:VEVENT
DTSTART;TZID=UTC:20251001T093000
DTEND;TZID=UTC:20251001T133000
DTSTAMP:20260419T133743
CREATED:20250903T082204Z
LAST-MODIFIED:20250919T095016Z
UID:8037-1759311000-1759325400@esauk.org
SUMMARY:NWRF meeting
DESCRIPTION:Join the North West Resources Forum (NWRF). Businesses\, local authorities\, community organisations\, and industry leaders are invited to join this exciting new platform to collaborate\, learn\, and shape the future of waste and recycling in the region.
URL:https://esauk.org/event-calendar/nwrf-meeting/
LOCATION:The Blue Base\, Liverpool\, L4 4BZ
END:VEVENT
BEGIN:VEVENT
DTSTART;TZID=UTC:20251001T103000
DTEND;TZID=UTC:20251001T123000
DTSTAMP:20260419T133743
CREATED:20250109T093045Z
LAST-MODIFIED:20250609T112359Z
UID:7389-1759314600-1759321800@esauk.org
SUMMARY:ESA Working Group | Dry Recyclables
DESCRIPTION:EXCLUSIVE MEMBER ONLY WORKING GROUP  |  This is an exclusive Member Only Working Group focussing on Dry Recyclables (paper\, plastic\, card\, glass and metal).  If you are a member and wish to join the group\, please reach out in the normal ways
URL:https://esauk.org/event-calendar/esa-working-group-dry-recyclables/
LOCATION:Online
END:VEVENT
BEGIN:VEVENT
DTSTART;TZID=UTC:20251001T130000
DTEND;TZID=UTC:20251001T140000
DTSTAMP:20260419T133743
CREATED:20250827T104702Z
LAST-MODIFIED:20250827T104702Z
UID:8008-1759323600-1759327200@esauk.org
SUMMARY:Eunomia Webinar | A Prescription for change: Rethinking plastics use in healthcare to reduce waste\, greenhouse gas emissions and costs | Europe focus
DESCRIPTION:Join Eunomia for the European launch of A Prescription for Change: Rethinking plastics use in healthcare to reduce waste\, greenhouse gas emissions and costs\, a forthcoming new report from Systemiq and Eunomia.
URL:https://esauk.org/event-calendar/eunomia-webinar-a-prescription-for-change-rethinking-plastics-use-in-healthcare-to-reduce-waste-greenhouse-gas-emissions-and-costs-europe-focus/
LOCATION:Online
END:VEVENT
END:VCALENDAR