BEGIN:VCALENDAR
VERSION:2.0
PRODID:-//esauk.org - ECPv6.15.20//NONSGML v1.0//EN
CALSCALE:GREGORIAN
METHOD:PUBLISH
X-WR-CALNAME:esauk.org
X-ORIGINAL-URL:https://esauk.org
X-WR-CALDESC:Events for esauk.org
REFRESH-INTERVAL;VALUE=DURATION:PT1H
X-Robots-Tag:noindex
X-PUBLISHED-TTL:PT1H
BEGIN:VTIMEZONE
TZID:UTC
BEGIN:STANDARD
TZOFFSETFROM:+0000
TZOFFSETTO:+0000
TZNAME:UTC
DTSTART:20240101T000000
END:STANDARD
END:VTIMEZONE
BEGIN:VEVENT
DTSTART;TZID=UTC:20250925T103000
DTEND;TZID=UTC:20250925T123000
DTSTAMP:20260419T152716
CREATED:20241016T142026Z
LAST-MODIFIED:20250609T112120Z
UID:7067-1758796200-1758803400@esauk.org
SUMMARY:ESA Working Group | Waste Oils
DESCRIPTION:EXCLUSIVE MEMBER ONLY WORKING GROUP | This is an exclusive Member Only Working Group focussing on Waste Oils. If you are a member and wish to join the group\, please reach out in the normal ways
URL:https://esauk.org/event-calendar/esa-working-group-waste-oils-3/
LOCATION:Online
END:VEVENT
BEGIN:VEVENT
DTSTART;TZID=UTC:20250925T133000
DTEND;TZID=UTC:20250925T143000
DTSTAMP:20260419T152716
CREATED:20250912T114138Z
LAST-MODIFIED:20250912T114138Z
UID:8075-1758807000-1758810600@esauk.org
SUMMARY:Environment Analyst Event | Net Zero Under Pressure: How Developers can Build Support Amid Growing Scepticism
DESCRIPTION:In this Sustainability Delivery Group Expert Talk\, Martin McCrink\, Managing Partner at Copper Consultancy\, will explore how developers can navigate this evolving context to secure support for their projects.
URL:https://esauk.org/event-calendar/environment-analyst-event-net-zero-under-pressure-how-developers-can-build-support-amid-growing-scepticism/
LOCATION:Online
END:VEVENT
END:VCALENDAR