BEGIN:VCALENDAR
VERSION:2.0
PRODID:-//esauk.org - ECPv6.15.20//NONSGML v1.0//EN
CALSCALE:GREGORIAN
METHOD:PUBLISH
X-WR-CALNAME:esauk.org
X-ORIGINAL-URL:https://esauk.org
X-WR-CALDESC:Events for esauk.org
REFRESH-INTERVAL;VALUE=DURATION:PT1H
X-Robots-Tag:noindex
X-PUBLISHED-TTL:PT1H
BEGIN:VTIMEZONE
TZID:UTC
BEGIN:STANDARD
TZOFFSETFROM:+0000
TZOFFSETTO:+0000
TZNAME:UTC
DTSTART:20240101T000000
END:STANDARD
END:VTIMEZONE
BEGIN:VEVENT
DTSTART;VALUE=DATE:20250917
DTEND;VALUE=DATE:20250919
DTSTAMP:20260419T150715
CREATED:20241002T095402Z
LAST-MODIFIED:20250331T110020Z
UID:7005-1758067200-1758239999@esauk.org
SUMMARY:RWM | Resource & Waste Management Expo 2025
DESCRIPTION:The Resource & Waste Management Expo (RWM) returns in 2025 as the premier event for professionals across the recycling\, resource\, and waste management sectors. Whether you’re a waste leader\, sustainability expert\, or an industry newcomer\, RWM offers the perfect platform to connect with global innovators\, discover the latest trends\, and source groundbreaking solutions for sustainable resource management. \nWith over 9\,000 attendees in 2024\, RWM 2025 is set to be bigger and better than ever\, featuring cutting-edge solutions\, live demonstrations\, expert-led sessions\, lucrative investment opportunities\, and crucial insights to elevate your operation. \nWhy Attend RWM 2025? \n\nDiscover your next solution: Explore cutting-edge innovations\, initiatives\, technology and solutions in recycling\, energy-from-waste\, circular economy strategies\, and more across three exhibition halls and a 10\,000m² outdoor area.\nLive Demonstrations: Witness incredible displays of the latest waste processing machinery and collection vehicles in-action\, and see their benefits first-hand.\nExpert-Led Conferences: Gain valuable insights from keynote sessions\, seminars\, and workshops designed to address industry challenges and provide actionable insights.\nUnparalleled Networking: Connect with peers\, suppliers\, consultants\, and decision-makers driving sustainable resource forward across diverse sectors. Create powerful new partnerships to take your business to new heights.\nComprehensive Solutions: Access a one-stop platform for resource management\, offering everything from advanced technologies to actionable strategies.\n\nRWM is part of the Environmental Services & Solutions Expo (ESS)\, the UK’s largest event dedicated to environmental services and technology. The Expo unites eight co-located shows\, and one free ticket provides attendees with a unique\, comprehensive platform to explore the latest advancements in resource\, waste\, land\, water\, energy\, air quality\, and everything in between: \n\nRWM – Resource & Waste Management Expo\nCLR – Contamination & Land Remediation Expo\nEFD – Energy\, Fuels & Decarbonisation Expo\nWWEM – Water\, Wastewater & Environmental Management Expo\nAQE – Air Quality & Emissions Expo\nGEO – Geotechnical Engineering and Operations Expo (New for 2025)\nCARS & MRE – Complete Auto Recycling Show & Metals Recycling Event (Co-located with ESS for the first time!)
URL:https://esauk.org/event-calendar/rwm-resource-waste-management-expo-2025/
LOCATION:NEC Birmingham\, Pendigo Way\, Birmingham\, B40 1NT\, United Kingdom
END:VEVENT
BEGIN:VEVENT
DTSTART;TZID=UTC:20250918T103000
DTEND;TZID=UTC:20250918T123000
DTSTAMP:20260419T150715
CREATED:20241002T084809Z
LAST-MODIFIED:20250609T112006Z
UID:6969-1758191400-1758198600@esauk.org
SUMMARY:ESA Working Group | Regulation
DESCRIPTION:EXCLUSIVE MEMBER ONLY WORKING GROUP  |  This is an exclusive Member Only Working Group focussing on Regulation.  If you are a member and wish to join the group\, please reach out in the normal ways
URL:https://esauk.org/event-calendar/esa-working-group-regulation-3/
LOCATION:Online
END:VEVENT
BEGIN:VEVENT
DTSTART;TZID=UTC:20250918T130000
DTEND;TZID=UTC:20250918T143000
DTSTAMP:20260419T150715
CREATED:20250827T105341Z
LAST-MODIFIED:20250827T105341Z
UID:8017-1758200400-1758205800@esauk.org
SUMMARY:Environment Analyst Webinar | Product Sustainability – Requirements and Expectations to Share Product Declarations
DESCRIPTION:In this Sustainability Delivery Group Expert Talk\, Sam Hinton\, Ramboll UK’s Director of Life Cycle Assessment\, will provide an overview of forthcoming product-focused regulations and voluntarily standards\, highlighting which organisations should prioritise and how best to disclose the required information.
URL:https://esauk.org/event-calendar/environment-analyst-webinar-product-sustainability-requirements-and-expectations-to-share-product-declarations/
LOCATION:Online
END:VEVENT
END:VCALENDAR