BEGIN:VCALENDAR
VERSION:2.0
PRODID:-//esauk.org - ECPv6.15.20//NONSGML v1.0//EN
CALSCALE:GREGORIAN
METHOD:PUBLISH
X-WR-CALNAME:esauk.org
X-ORIGINAL-URL:https://esauk.org
X-WR-CALDESC:Events for esauk.org
REFRESH-INTERVAL;VALUE=DURATION:PT1H
X-Robots-Tag:noindex
X-PUBLISHED-TTL:PT1H
BEGIN:VTIMEZONE
TZID:UTC
BEGIN:STANDARD
TZOFFSETFROM:+0000
TZOFFSETTO:+0000
TZNAME:UTC
DTSTART:20240101T000000
END:STANDARD
END:VTIMEZONE
BEGIN:VEVENT
DTSTART;TZID=UTC:20250911T093000
DTEND;TZID=UTC:20250911T133000
DTSTAMP:20260419T150727
CREATED:20250324T145949Z
LAST-MODIFIED:20250707T095321Z
UID:7632-1757583000-1757597400@esauk.org
SUMMARY:NERF Event | North East Recycling Forum Meeting
DESCRIPTION:NERF Quarterly Meetings are held in many venues around the North East region. \nThe aim of the Forum is to: \n\nShare Information – A platform for sharing knowledge\, innovations\, and regulatory updates.\nSupport Best Practices – Sharing learnings with presentations from experts in the sector.\nMake Connections – Facilitating collaboration between local authorities\, businesses\, and industry professionals
URL:https://esauk.org/event-calendar/nerf-event-north-east-recycling-forum-meeting-2/
LOCATION:Energy Central Campus Quay Road Blyth NE24 3PA
END:VEVENT
END:VCALENDAR