BEGIN:VCALENDAR
VERSION:2.0
PRODID:-//esauk.org - ECPv6.15.20//NONSGML v1.0//EN
CALSCALE:GREGORIAN
METHOD:PUBLISH
X-ORIGINAL-URL:https://esauk.org
X-WR-CALDESC:Events for esauk.org
REFRESH-INTERVAL;VALUE=DURATION:PT1H
X-Robots-Tag:noindex
X-PUBLISHED-TTL:PT1H
BEGIN:VTIMEZONE
TZID:UTC
BEGIN:STANDARD
TZOFFSETFROM:+0000
TZOFFSETTO:+0000
TZNAME:UTC
DTSTART:20240101T000000
END:STANDARD
END:VTIMEZONE
BEGIN:VEVENT
DTSTART;TZID=UTC:20250909T100000
DTEND;TZID=UTC:20250909T110000
DTSTAMP:20260419T151136
CREATED:20250731T091251Z
LAST-MODIFIED:20250731T091251Z
UID:7982-1757412000-1757415600@esauk.org
SUMMARY:AMCS Webinar | Future-proof waste management: Navigating digital waste tracking with AMCS
DESCRIPTION:Join ESA Member Company AMCS for a comprehensive webinar where they will explore the intricacies of the digital waste tracking legislation and how AMCS Group can support your organisation with the tools and knowledge necessary for compliance and efficiency.
URL:https://esauk.org/event-calendar/amcs-webinar-future-proof-waste-management-navigating-digital-waste-tracking-with-amcs/
LOCATION:Online
END:VEVENT
BEGIN:VEVENT
DTSTART;TZID=UTC:20250909T110000
DTEND;TZID=UTC:20250909T120000
DTSTAMP:20260419T151136
CREATED:20250827T105208Z
LAST-MODIFIED:20250827T105208Z
UID:8015-1757415600-1757419200@esauk.org
SUMMARY:NHS Webinar | Detailed Market Sounding - April 2027 Scope 3 Reporting and Target Setting - Supplier Session 2
DESCRIPTION:Join the NHSE Sustainable Proc. Team for this live session\, open to all stakeholders\, where the NHS England team will talk through the the proposed policy positions in the Detailed Market Sounding and answer clarifying questions.
URL:https://esauk.org/event-calendar/nhs-webinar-detailed-market-sounding-april-2027-scope-3-reporting-and-target-setting-supplier-session-2/
LOCATION:Online
END:VEVENT
END:VCALENDAR