BEGIN:VCALENDAR
VERSION:2.0
PRODID:-//esauk.org - ECPv6.15.20//NONSGML v1.0//EN
CALSCALE:GREGORIAN
METHOD:PUBLISH
X-WR-CALNAME:esauk.org
X-ORIGINAL-URL:https://esauk.org
X-WR-CALDESC:Events for esauk.org
REFRESH-INTERVAL;VALUE=DURATION:PT1H
X-Robots-Tag:noindex
X-PUBLISHED-TTL:PT1H
BEGIN:VTIMEZONE
TZID:UTC
BEGIN:STANDARD
TZOFFSETFROM:+0000
TZOFFSETTO:+0000
TZNAME:UTC
DTSTART:20240101T000000
END:STANDARD
END:VTIMEZONE
BEGIN:VEVENT
DTSTART;TZID=UTC:20250908T090000
DTEND;TZID=UTC:20250908T133000
DTSTAMP:20260419T150721
CREATED:20250725T113836Z
LAST-MODIFIED:20250725T113836Z
UID:7956-1757322000-1757338200@esauk.org
SUMMARY:WEET Forum Event | Next steps for the UK Emissions Trading Scheme
DESCRIPTION:This conference will examine next steps for the UK Emissions Trading Scheme. Areas for discussion include options for expanding the scope of the scheme\, integrating greenhouse gas removal technologies and voluntary carbon markets\, aligning with international regimes such as the EU ETS\, and taking forward long-term strategy and governance as the UK ETS moves towards its second allocation phase.
URL:https://esauk.org/event-calendar/weet-forum-event-next-steps-for-the-uk-emissions-trading-scheme/
LOCATION:Online
END:VEVENT
BEGIN:VEVENT
DTSTART;TZID=UTC:20250908T140000
DTEND;TZID=UTC:20250908T153000
DTSTAMP:20260419T150721
CREATED:20241105T110138Z
LAST-MODIFIED:20250609T111916Z
UID:7176-1757340000-1757345400@esauk.org
SUMMARY:ESA Working Group | Biodiversity
DESCRIPTION:EXCLUSIVE MEMBER ONLY WORKING GROUP | This is an exclusive Member Only Working Group focussing on Biodiversity.  If you are a member and wish to join the group\, please reach out in the normal ways
URL:https://esauk.org/event-calendar/esa-working-group-biodiversity-5/
LOCATION:In Person\, TBC
END:VEVENT
END:VCALENDAR