BEGIN:VCALENDAR
VERSION:2.0
PRODID:-//esauk.org - ECPv6.15.20//NONSGML v1.0//EN
CALSCALE:GREGORIAN
METHOD:PUBLISH
X-WR-CALNAME:esauk.org
X-ORIGINAL-URL:https://esauk.org
X-WR-CALDESC:Events for esauk.org
REFRESH-INTERVAL;VALUE=DURATION:PT1H
X-Robots-Tag:noindex
X-PUBLISHED-TTL:PT1H
BEGIN:VTIMEZONE
TZID:UTC
BEGIN:STANDARD
TZOFFSETFROM:+0000
TZOFFSETTO:+0000
TZNAME:UTC
DTSTART:20240101T000000
END:STANDARD
END:VTIMEZONE
BEGIN:VEVENT
DTSTART;TZID=UTC:20250827T123000
DTEND;TZID=UTC:20250827T133000
DTSTAMP:20260419T163015
CREATED:20250819T104823Z
LAST-MODIFIED:20250819T104823Z
UID:8004-1756297800-1756301400@esauk.org
SUMMARY:Be Waste Wise Webinar | The Future is Package-Lite: Minimizing Plastic\, Maximizing Impact
DESCRIPTION:This global webinar explores innovative strategies\, technologies\, and policies to reduce product plastic packaging while boosting sustainability\, circularity\, and brand value. Experts from packaging design\, sustainability\, retail\, and policy will share actionable insights and real-world solutions that help businesses and governments move from plastic dependency to planet-positive packaging.
URL:https://esauk.org/event-calendar/be-waste-wise-webinar-the-future-is-package-lite-minimizing-plastic-maximizing-impact/
LOCATION:Online
END:VEVENT
END:VCALENDAR