BEGIN:VCALENDAR
VERSION:2.0
PRODID:-//esauk.org - ECPv6.15.20//NONSGML v1.0//EN
CALSCALE:GREGORIAN
METHOD:PUBLISH
X-ORIGINAL-URL:https://esauk.org
X-WR-CALDESC:Events for esauk.org
REFRESH-INTERVAL;VALUE=DURATION:PT1H
X-Robots-Tag:noindex
X-PUBLISHED-TTL:PT1H
BEGIN:VTIMEZONE
TZID:UTC
BEGIN:STANDARD
TZOFFSETFROM:+0000
TZOFFSETTO:+0000
TZNAME:UTC
DTSTART:20240101T000000
END:STANDARD
END:VTIMEZONE
BEGIN:VEVENT
DTSTART;TZID=UTC:20250821T180000
DTEND;TZID=UTC:20250821T190000
DTSTAMP:20260419T163332
CREATED:20250731T091524Z
LAST-MODIFIED:20250731T091524Z
UID:7984-1755799200-1755802800@esauk.org
SUMMARY:External Webinar | Carbon-14 Testing for Cement Decarbonization & CCUS
DESCRIPTION:This webinar explores how Carbon-14 analysis enables accurate differentiation between fossil and biogenic CO2 – supporting GHG inventories\, regulatory compliance\, and CCUS (Carbon Capture\, Utilization\, and Storage) project validation.
URL:https://esauk.org/event-calendar/external-webinar-carbon-14-testing-for-cement-decarbonization-ccus/
LOCATION:Online
END:VEVENT
END:VCALENDAR