BEGIN:VCALENDAR
VERSION:2.0
PRODID:-//esauk.org - ECPv6.15.20//NONSGML v1.0//EN
CALSCALE:GREGORIAN
METHOD:PUBLISH
X-WR-CALNAME:esauk.org
X-ORIGINAL-URL:https://esauk.org
X-WR-CALDESC:Events for esauk.org
REFRESH-INTERVAL;VALUE=DURATION:PT1H
X-Robots-Tag:noindex
X-PUBLISHED-TTL:PT1H
BEGIN:VTIMEZONE
TZID:UTC
BEGIN:STANDARD
TZOFFSETFROM:+0000
TZOFFSETTO:+0000
TZNAME:UTC
DTSTART:20240101T000000
END:STANDARD
END:VTIMEZONE
BEGIN:VEVENT
DTSTART;TZID=UTC:20250806T110000
DTEND;TZID=UTC:20250806T120000
DTSTAMP:20260419T163019
CREATED:20250728T103829Z
LAST-MODIFIED:20250728T103829Z
UID:7963-1754478000-1754481600@esauk.org
SUMMARY:External Webinar | Procurement Act 2023: Where Are We Now—and What’s Next?
DESCRIPTION:This free webinar\, brought to you in association with Tracker and the Procurement Act Live event\, will feature exclusive insights from Carl Thomas\, Implementation & Governance Lead at the Welsh Government — a key figure involved in shaping and supporting the rollout of the Procurement Act. This session will explore what has worked so far\, what challenges remain\, and what suppliers should now expect from buyers in terms of behaviours\, expectations\, and priorities.
URL:https://esauk.org/event-calendar/external-webinar-procurement-act-2023-where-are-we-now-and-whats-next/
LOCATION:Online
END:VEVENT
END:VCALENDAR