BEGIN:VCALENDAR
VERSION:2.0
PRODID:-//esauk.org - ECPv6.15.20//NONSGML v1.0//EN
CALSCALE:GREGORIAN
METHOD:PUBLISH
X-ORIGINAL-URL:https://esauk.org
X-WR-CALDESC:Events for esauk.org
REFRESH-INTERVAL;VALUE=DURATION:PT1H
X-Robots-Tag:noindex
X-PUBLISHED-TTL:PT1H
BEGIN:VTIMEZONE
TZID:UTC
BEGIN:STANDARD
TZOFFSETFROM:+0000
TZOFFSETTO:+0000
TZNAME:UTC
DTSTART:20240101T000000
END:STANDARD
END:VTIMEZONE
BEGIN:VEVENT
DTSTART;TZID=UTC:20250731T110000
DTEND;TZID=UTC:20250731T120000
DTSTAMP:20260419T163244
CREATED:20250725T114119Z
LAST-MODIFIED:20250725T114119Z
UID:7958-1753959600-1753963200@esauk.org
SUMMARY:UK ETS Authority Webinar | UK ETS waste expansion webinar - waste operators and stakeholders
DESCRIPTION:The UK ETS Authority is holding a series of webinars to explain the interim response we have published to the 2024 consultation on expanding the UK ETS to the waste sector. This webinar is specifically aimed at waste operators and wider sector stakeholders. The Authority will present key points from the response\, set out next steps\, and take questions from stakeholders.
URL:https://esauk.org/event-calendar/uk-ets-authority-webinar-uk-ets-waste-expansion-webinar-waste-operators-and-stakeholders/
LOCATION:Online
END:VEVENT
BEGIN:VEVENT
DTSTART;TZID=UTC:20250731T143000
DTEND;TZID=UTC:20250731T160000
DTSTAMP:20260419T163244
CREATED:20241218T120118Z
LAST-MODIFIED:20250714T083120Z
UID:7354-1753972200-1753977600@esauk.org
SUMMARY:ESA Strategy Group | Health & Safety
DESCRIPTION:EXCLUSIVE MEMBER ONLY STRATEGY GROUP  |  This is an exclusive Board Member Only Working Group focussing on Health & Safety.  If you are a Board Member Company and wish to join the group\, please reach out in the normal ways
URL:https://esauk.org/event-calendar/esa-strategy-group-health-safety-7/
LOCATION:Online
END:VEVENT
END:VCALENDAR