BEGIN:VCALENDAR
VERSION:2.0
PRODID:-//esauk.org - ECPv6.15.20//NONSGML v1.0//EN
CALSCALE:GREGORIAN
METHOD:PUBLISH
X-ORIGINAL-URL:https://esauk.org
X-WR-CALDESC:Events for esauk.org
REFRESH-INTERVAL;VALUE=DURATION:PT1H
X-Robots-Tag:noindex
X-PUBLISHED-TTL:PT1H
BEGIN:VTIMEZONE
TZID:UTC
BEGIN:STANDARD
TZOFFSETFROM:+0000
TZOFFSETTO:+0000
TZNAME:UTC
DTSTART:20240101T000000
END:STANDARD
END:VTIMEZONE
BEGIN:VEVENT
DTSTART;TZID=UTC:20250724T100000
DTEND;TZID=UTC:20250724T110000
DTSTAMP:20260420T003459
CREATED:20250721T094323Z
LAST-MODIFIED:20250721T094323Z
UID:7940-1753351200-1753354800@esauk.org
SUMMARY:DEFRA Webinar | Digital Waste Tracking
DESCRIPTION:Defra are hosting this webinar to provide further information about Digital Waste Tracking and their recent announcement.
URL:https://esauk.org/event-calendar/defra-webinar-digital-waste-tracking/
LOCATION:Online
END:VEVENT
BEGIN:VEVENT
DTSTART;TZID=UTC:20250724T103000
DTEND;TZID=UTC:20250724T113000
DTSTAMP:20260420T003459
CREATED:20241002T085319Z
LAST-MODIFIED:20250716T102613Z
UID:6980-1753353000-1753356600@esauk.org
SUMMARY:ESA Working Group | Energy from Waste (EfW)
DESCRIPTION:EXCLUSIVE MEMBER ONLY WORKING GROUP | This is an exclusive Member Only Working Group focussing on Energy from Waste (EfW). If you are a member and wish to join the group\, please reach out in the normal ways
URL:https://esauk.org/event-calendar/esa-working-group-energy-from-waste-efw-3/
LOCATION:Online
END:VEVENT
END:VCALENDAR