BEGIN:VCALENDAR
VERSION:2.0
PRODID:-//esauk.org - ECPv6.15.20//NONSGML v1.0//EN
CALSCALE:GREGORIAN
METHOD:PUBLISH
X-WR-CALNAME:esauk.org
X-ORIGINAL-URL:https://esauk.org
X-WR-CALDESC:Events for esauk.org
REFRESH-INTERVAL;VALUE=DURATION:PT1H
X-Robots-Tag:noindex
X-PUBLISHED-TTL:PT1H
BEGIN:VTIMEZONE
TZID:UTC
BEGIN:STANDARD
TZOFFSETFROM:+0000
TZOFFSETTO:+0000
TZNAME:UTC
DTSTART:20240101T000000
END:STANDARD
END:VTIMEZONE
BEGIN:VEVENT
DTSTART;TZID=UTC:20250717T143000
DTEND;TZID=UTC:20250717T170000
DTSTAMP:20260419T230347
CREATED:20241017T105444Z
LAST-MODIFIED:20250609T111510Z
UID:7080-1752762600-1752771600@esauk.org
SUMMARY:ESA Board Meeting
DESCRIPTION:CLOSED MEETING – BOARD MEMBER COMPANIES ONLY |  The ESA Board Meeting is only open to Board Representative companies.
URL:https://esauk.org/event-calendar/esa-board-6/
END:VEVENT
END:VCALENDAR