BEGIN:VCALENDAR
VERSION:2.0
PRODID:-//esauk.org - ECPv6.15.20//NONSGML v1.0//EN
CALSCALE:GREGORIAN
METHOD:PUBLISH
X-ORIGINAL-URL:https://esauk.org
X-WR-CALDESC:Events for esauk.org
REFRESH-INTERVAL;VALUE=DURATION:PT1H
X-Robots-Tag:noindex
X-PUBLISHED-TTL:PT1H
BEGIN:VTIMEZONE
TZID:UTC
BEGIN:STANDARD
TZOFFSETFROM:+0000
TZOFFSETTO:+0000
TZNAME:UTC
DTSTART:20240101T000000
END:STANDARD
END:VTIMEZONE
BEGIN:VEVENT
DTSTART;TZID=UTC:20250715T160000
DTEND;TZID=UTC:20250715T170000
DTSTAMP:20260419T194902
CREATED:20250709T140902Z
LAST-MODIFIED:20250709T140902Z
UID:7927-1752595200-1752598800@esauk.org
SUMMARY:How can we responsibly implement AI in high-stakes industries?
DESCRIPTION:AI’ is often equated with today’s consumer-facing and enterprise co-pilot applications. These tools are changing many industries with tangible impacts already being felt\, yet there is much more to AI than chatbots. Some of the biggest potential gains from AI lie in industries like energy\, manufacturing\, transport\, healthcare\, and government. These ‘high stakes’ sectors have particularly stringent requirements when it comes to safety\, reliability\, and explainability. A selection of AI pioneers will discuss how AI tools can be implemented responsibly in these key areas.
URL:https://esauk.org/event-calendar/how-can-we-responsibly-implement-ai-in-high-stakes-industries/
LOCATION:Online
END:VEVENT
END:VCALENDAR