BEGIN:VCALENDAR
VERSION:2.0
PRODID:-//esauk.org - ECPv6.15.20//NONSGML v1.0//EN
CALSCALE:GREGORIAN
METHOD:PUBLISH
X-WR-CALNAME:esauk.org
X-ORIGINAL-URL:https://esauk.org
X-WR-CALDESC:Events for esauk.org
REFRESH-INTERVAL;VALUE=DURATION:PT1H
X-Robots-Tag:noindex
X-PUBLISHED-TTL:PT1H
BEGIN:VTIMEZONE
TZID:UTC
BEGIN:STANDARD
TZOFFSETFROM:+0000
TZOFFSETTO:+0000
TZNAME:UTC
DTSTART:20240101T000000
END:STANDARD
END:VTIMEZONE
BEGIN:VEVENT
DTSTART;VALUE=DATE:20250709
DTEND;VALUE=DATE:20250711
DTSTAMP:20260419T163017
CREATED:20241002T093347Z
LAST-MODIFIED:20241106T095521Z
UID:7003-1752019200-1752191999@esauk.org
SUMMARY:ADBA Event | World Biogas Expo
DESCRIPTION:The World Biogas Expo is co-organised by the Anaerobic Digestion and Bioresources Association (ADBA) and the World Biogas Association (WBA)\, and  is the leading global biogas trade show of its kind\, with representation from the UK and over a hundred countries. It features dozens of guest speakers\, over a hundred exhibition stands\, and thousands of delegates – all at the cutting-edge of biogas. The World Biogas Expo is co-located with The World Biogas Summit (hosted by WBA) and the AD and Biogas Industry Awards Ceremony (co-organised by ADBA and WBA).
URL:https://esauk.org/event-calendar/adba-event-world-biogas-expo/
LOCATION:NEC Birmingham\, Pendigo Way\, Birmingham\, B40 1NT\, United Kingdom
END:VEVENT
BEGIN:VEVENT
DTSTART;TZID=UTC:20250710T090000
DTEND;TZID=UTC:20250710T170000
DTSTAMP:20260419T163017
CREATED:20250625T125007Z
LAST-MODIFIED:20250625T125007Z
UID:7871-1752138000-1752166800@esauk.org
SUMMARY:letsrecycle.com Event | National Civic Amenity Site/HWRC Conference 2025
DESCRIPTION:Join industry professionals\, local authorities\, and waste management leaders for a full-day conference dedicated to the future of Household Waste Recycling Centres (HWRCs) and civic amenity site operations.
URL:https://esauk.org/event-calendar/letsrecycle-com-event-national-civic-amenity-site-hwrc-conference-2025/
LOCATION:Select Car Leasing Stadium Reading RG2 0FL
END:VEVENT
BEGIN:VEVENT
DTSTART;TZID=UTC:20250710T153000
DTEND;TZID=UTC:20250710T161500
DTSTAMP:20260419T163017
CREATED:20250625T124240Z
LAST-MODIFIED:20250625T124240Z
UID:7859-1752161400-1752164100@esauk.org
SUMMARY:Eunomia Webinar | From risk to regeneration: Navigate the role of nature in your business using TNFD
DESCRIPTION:Join Eunomia for a live webinar with Tom Raven\, natural economy expert at Eunomia\, where he will help you navigate the role of nature in your business using TNFD (Taskforce on Nature-related Financial Disclosures). \nGet up to speed quickly on how TNFD works\, the framework’s expectations\, how it links to other sustainability reporting regulations\, and how to move from a position of risk to regeneration.
URL:https://esauk.org/event-calendar/eunomia-webinar-from-risk-to-regeneration-navigate-the-role-of-nature-in-your-business-using-tnfd/
LOCATION:Online
END:VEVENT
END:VCALENDAR