BEGIN:VCALENDAR
VERSION:2.0
PRODID:-//esauk.org - ECPv6.15.20//NONSGML v1.0//EN
CALSCALE:GREGORIAN
METHOD:PUBLISH
X-WR-CALNAME:esauk.org
X-ORIGINAL-URL:https://esauk.org
X-WR-CALDESC:Events for esauk.org
REFRESH-INTERVAL;VALUE=DURATION:PT1H
X-Robots-Tag:noindex
X-PUBLISHED-TTL:PT1H
BEGIN:VTIMEZONE
TZID:UTC
BEGIN:STANDARD
TZOFFSETFROM:+0000
TZOFFSETTO:+0000
TZNAME:UTC
DTSTART:20240101T000000
END:STANDARD
END:VTIMEZONE
BEGIN:VEVENT
DTSTART;TZID=UTC:20250708T090000
DTEND;TZID=UTC:20250708T163000
DTSTAMP:20260419T133712
CREATED:20250625T124745Z
LAST-MODIFIED:20250625T124745Z
UID:7865-1751965200-1751992200@esauk.org
SUMMARY:LARAC Wales Conference
DESCRIPTION:Join LARAC for the 2025 LARAC Wales Conference\, a comprehensive exploration of the critical aspects of operating an efficient and successful waste and recycling service within Welsh local authorities. \nThis conference will delve deep into pressing issues\, including effective communication with the public regarding reuse and repair initiatives\, as well as the intricate landscape of Extended Producer Responsibility reform. Our line-up of distinguished speakers\, representing various facets of the waste sector\, will address pressing topics\, and explore key challenges and successes.
URL:https://esauk.org/event-calendar/larac-wales-conference/
LOCATION:The Parkgate Hotel\, Cardiff CF10 1DA
END:VEVENT
BEGIN:VEVENT
DTSTART;TZID=UTC:20250708T100000
DTEND;TZID=UTC:20250708T120000
DTSTAMP:20260419T133712
CREATED:20241023T112445Z
LAST-MODIFIED:20250609T111427Z
UID:7128-1751968800-1751976000@esauk.org
SUMMARY:ESA Working Group | Health & Safety
DESCRIPTION:EXCLUSIVE MEMBER ONLY WORKING GROUP | This is an exclusive Member Only Working Group focussing on Health & Safety. If you are a member and wish to join the group\, please reach out in the normal ways
URL:https://esauk.org/event-calendar/esa-working-group-health-safety-3/
LOCATION:Online
END:VEVENT
END:VCALENDAR