BEGIN:VCALENDAR
VERSION:2.0
PRODID:-//esauk.org - ECPv6.15.20//NONSGML v1.0//EN
CALSCALE:GREGORIAN
METHOD:PUBLISH
X-ORIGINAL-URL:https://esauk.org
X-WR-CALDESC:Events for esauk.org
REFRESH-INTERVAL;VALUE=DURATION:PT1H
X-Robots-Tag:noindex
X-PUBLISHED-TTL:PT1H
BEGIN:VTIMEZONE
TZID:UTC
BEGIN:STANDARD
TZOFFSETFROM:+0000
TZOFFSETTO:+0000
TZNAME:UTC
DTSTART:20240101T000000
END:STANDARD
END:VTIMEZONE
BEGIN:VEVENT
DTSTART;TZID=UTC:20250702T093000
DTEND;TZID=UTC:20250702T133000
DTSTAMP:20260421T112735
CREATED:20250602T193418Z
LAST-MODIFIED:20250602T193418Z
UID:7771-1751448600-1751463000@esauk.org
SUMMARY:North West Resources Forum (NWRF)
DESCRIPTION:NWRF offers a forum for the public\, private and community sector to share best practice in waste and recycling issues. \nJoin us for the North West Resources Forum (NWRF). Businesses\, local authorities\, community organisations\, and industry leaders are invited to join this exciting new platform to collaborate\, learn\, and shape the future of waste and recycling in the region.
URL:https://esauk.org/event-calendar/north-west-resources-forum-nwrf/
LOCATION:South Ribble Borough Council  West Paddock Leyland PR25 1DH
END:VEVENT
END:VCALENDAR