BEGIN:VCALENDAR
VERSION:2.0
PRODID:-//esauk.org - ECPv6.15.20//NONSGML v1.0//EN
CALSCALE:GREGORIAN
METHOD:PUBLISH
X-WR-CALNAME:esauk.org
X-ORIGINAL-URL:https://esauk.org
X-WR-CALDESC:Events for esauk.org
REFRESH-INTERVAL;VALUE=DURATION:PT1H
X-Robots-Tag:noindex
X-PUBLISHED-TTL:PT1H
BEGIN:VTIMEZONE
TZID:UTC
BEGIN:STANDARD
TZOFFSETFROM:+0000
TZOFFSETTO:+0000
TZNAME:UTC
DTSTART:20240101T000000
END:STANDARD
END:VTIMEZONE
BEGIN:VEVENT
DTSTART;VALUE=DATE:20250627
DTEND;VALUE=DATE:20250628
DTSTAMP:20260421T100319
CREATED:20241212T121403Z
LAST-MODIFIED:20250625T124530Z
UID:7309-1750982400-1751068799@esauk.org
SUMMARY:letsrecycle.com Event | Waste World Cup
DESCRIPTION:The Waste World Cup is the industry’s premier sporting event seamlessly combining a day of football with quality networking. \nCompetitions include; \n\nCup\,\nPlate\,\nBowl\,\nShield\,\nVase\nJug.\n\nFun for teams of all abilities – it guarantees a full day of football for everyone.
URL:https://esauk.org/event-calendar/letsrecycle-com-event-waste-world-cup/
LOCATION:Beaconsfield Rugby Club\, Windsor End\, Beaconsfield\, HP9 2SQ\, United Kingdom
END:VEVENT
END:VCALENDAR