BEGIN:VCALENDAR
VERSION:2.0
PRODID:-//esauk.org - ECPv6.15.20//NONSGML v1.0//EN
CALSCALE:GREGORIAN
METHOD:PUBLISH
X-WR-CALNAME:esauk.org
X-ORIGINAL-URL:https://esauk.org
X-WR-CALDESC:Events for esauk.org
REFRESH-INTERVAL;VALUE=DURATION:PT1H
X-Robots-Tag:noindex
X-PUBLISHED-TTL:PT1H
BEGIN:VTIMEZONE
TZID:UTC
BEGIN:STANDARD
TZOFFSETFROM:+0000
TZOFFSETTO:+0000
TZNAME:UTC
DTSTART:20240101T000000
END:STANDARD
END:VTIMEZONE
BEGIN:VEVENT
DTSTART;VALUE=DATE:20250624
DTEND;VALUE=DATE:20250626
DTSTAMP:20260421T100320
CREATED:20241024T133024Z
LAST-MODIFIED:20241024T133024Z
UID:7146-1750723200-1750895999@esauk.org
SUMMARY:Environmental Packaging Live
DESCRIPTION:A conference and awards event series tailored to the ever-growing demands and key topics in sustainable packaging and carbon footprint.
URL:https://esauk.org/event-calendar/environmental-packaging-live/
LOCATION:Kia Oval Cricket Ground\, London
END:VEVENT
BEGIN:VEVENT
DTSTART;TZID=UTC:20250624T090000
DTEND;TZID=UTC:20250624T103000
DTSTAMP:20260421T100320
CREATED:20241218T115955Z
LAST-MODIFIED:20250609T111230Z
UID:7352-1750755600-1750761000@esauk.org
SUMMARY:ESA Strategy Group | Health & Safety
DESCRIPTION:EXCLUSIVE MEMBER ONLY STRATEGY GROUP | This is an exclusive Board Member Only Strategy Group focussing on Health & Safety. If you are a Board Member Company and wish to join the group\, please reach out in the normal ways
URL:https://esauk.org/event-calendar/esa-strategy-group-health-safety-6/
LOCATION:Online
END:VEVENT
BEGIN:VEVENT
DTSTART;TZID=UTC:20250624T100000
DTEND;TZID=UTC:20250624T110000
DTSTAMP:20260421T100320
CREATED:20250602T120758Z
LAST-MODIFIED:20250616T104540Z
UID:7764-1750759200-1750762800@esauk.org
SUMMARY:ESA Members Only Webinar | Modern Slavery: What the Waste Industry needs to know
DESCRIPTION:The Environmental Services Association is delighted to team up with CMS and Smart Solutions to provide ESA members with an exclusive webinar looking at Modern Slavery in the waste industry. \nREGISTRATION OPEN BELOW \nWe will focus on what the waste industry needs to know from a legal perspective\, both now and with future developments\, as well as taking a deep dive into a practical example and lessons learned. \nSPEAKERS \n\nAnna Cope (CMS)\nSarah Ozanne (CMS)\nStephanie Lodola (CMS)\nJade Oliver-Morris (Smart Solutions)\n\nAGENDA \n\nScene setting – What is Modern Slavery\nThe current legal landscape\nStakeholder and peer group action – what can be done\nWhat are the future developments and the European position\nLearnings – a practical case study & lessons learned\n\nREGISTRATION OPEN BELOW \n 
URL:https://esauk.org/event-calendar/esa-members-only-webinar-modern-slavery-what-the-waste-industry-needs-to-know/
LOCATION:Online
END:VEVENT
END:VCALENDAR